BEGIN:VCALENDAR
VERSION:2.0
PRODID:icalendar-ruby
CALSCALE:GREGORIAN
X-WR-TIMEZONE:Europe/Helsinki
BEGIN:VTIMEZONE
TZID:Europe/Helsinki
BEGIN:DAYLIGHT
DTSTART:20260329T040000
TZOFFSETFROM:+0200
TZOFFSETTO:+0300
RRULE:FREQ=YEARLY;BYDAY=-1SU;BYMONTH=3
TZNAME:EEST
END:DAYLIGHT
BEGIN:STANDARD
DTSTART:20261025T030000
TZOFFSETFROM:+0300
TZOFFSETTO:+0200
RRULE:FREQ=YEARLY;BYDAY=-1SU;BYMONTH=10
TZNAME:EET
END:STANDARD
END:VTIMEZONE
BEGIN:VEVENT
DTSTAMP:20260424T201048
UID:ounasvaaranhiihtoseura.myclub.fi-10657194
DTSTART;TZID=Europe/Helsinki:20260703T203000
DTEND;TZID=Europe/Helsinki:20260703T235900
DESCRIPTION:Paikka\nKilpailumaastona toimii Mellakankaan maasto Vennivaaras
 sa. Tarkemmat ohjeet kilpailukeskuksesta\, parkkeerauksesta yms. päivitet
 ään toukokuun aikana.\nAikataulu  19.30 - 20.00 Jälki-ilmoittautuminen.
   19.30-20.30 Emitnumeroiden ilmoittaminen ja puuttuvien maksujen suoritta
 minen.  20.30 Karttojen jako ja emittien nollaus  21.00 Yhteislähtö  0.0
 0 Maaliintuloaika  \nSarjat  Naiset  Miehet  Seka  \nHinta  Yksin osallist
 uja 20€  Kahden hengen joukkue 30€  Kolmen hengen joukkue 40€  Emitk
 ortin vuokra 2€  Jokainen kilpailija tarvitsee oman emitin.    \n\nhttps
 ://ounasvaaranhiihtoseura.myclub.fi/flow/events/10657194
LOCATION:Mellakangas\, Vennivaara\, 
SEQUENCE:0
SUMMARY:Suunnistusjaosto : Rogaining 2026
URL;VALUE=URI:https://ounasvaaranhiihtoseura.myclub.fi/flow/events/10657194
END:VEVENT
END:VCALENDAR
